BEGIN:VCALENDAR
VERSION:2.0
PRODID:-//hacksw/handcal//NONSGML v1.0//EN
BEGIN:VEVENT
SUMMARY:Challenge de Paques 2026
UID:09c88e9b-065d-4c36-a970-321877c65cc5
DTSTART:20260410T160000Z
DTEND:20260410T170000Z
LOCATION:Localisation   
CATEGORIES:Festif
STATUS:
URL;VALUE=URI:https://www.saran-judo.com/evenements/2026/04/10/challenge-de-paques-2026-2439033
END:VEVENT
END:VCALENDAR
